BEGIN:VCALENDAR
VERSION:2.0
PRODID:-//Talks.cam//talks.cam.ac.uk//
X-WR-CALNAME:Talks.cam
BEGIN:VEVENT
SUMMARY:Germanic clause structure and the OV/VO difference - Prof. Sten Vi
 kner
DTSTART:20140514T130000Z
DTEND:20140514T150000Z
UID:TALK52619@talks.cam.ac.uk
DESCRIPTION:Abstract not available
LOCATION:S-R24\, 9 West Rd (English Faculty)
END:VEVENT
END:VCALENDAR
