BEGIN:VCALENDAR
VERSION:2.0
PRODID:-//Talks.cam//talks.cam.ac.uk//
X-WR-CALNAME:Talks.cam
BEGIN:VEVENT
SUMMARY:Was the evolution of the modern human brain the result of social o
 r environmental pressures? - Dr Susanne Shultz
DTSTART:20140513T153000Z
DTEND:20140513T163000Z
UID:TALK52629@talks.cam.ac.uk
CONTACT:Jacob Dunn
DESCRIPTION:Abstract not available
LOCATION:BioAnth Lecture Theatre (Room 41)\, Division of Biological Anthro
 pology\, Pembroke Street\, Cambridge\, CB2 3QG
END:VEVENT
END:VCALENDAR
