BEGIN:VCALENDAR
VERSION:2.0
PRODID:-//Talks.cam//talks.cam.ac.uk//
X-WR-CALNAME:Talks.cam
BEGIN:VEVENT
SUMMARY:Monoidal Categories And More - Christina Vasilakopoulou (Universit
 y of Cambridge)
DTSTART:20140515T130000Z
DTEND:20140515T140000Z
UID:TALK52664@talks.cam.ac.uk
CONTACT:Sean Moss
DESCRIPTION:In this talk\, we will give an overview of the basic theory of
  monoidal categories with a particular emphasis on the categories of monoi
 ds/comonoids and modules/comodules. We will discuss the various notions of
  monoidal functors and their properties\, and spend some time on the free 
 monoid construction vs cofree comonoid construction. Time permitting\, we 
 will have a look at enrichment relations that arise between these categori
 es of 'dual flavor'.
LOCATION:CMS\, MR3
END:VEVENT
END:VCALENDAR
