BEGIN:VCALENDAR
VERSION:2.0
PRODID:-//Talks.cam//talks.cam.ac.uk//
X-WR-CALNAME:Talks.cam
BEGIN:VEVENT
SUMMARY:Statistical model criticism - James Lloyd (University of Cambridge
 )
DTSTART:20140515T140000Z
DTEND:20140515T153000Z
UID:TALK52701@talks.cam.ac.uk
CONTACT:Konstantina Palla
DESCRIPTION:Statistical analyses rely upon assumptions. When these assumpt
 ions are not met we may \ndraw erroneous inferences. Statistical model cri
 ticism / checking procedures attempt to test these assumptions \nand give 
 insight into how a statistical model might be expanded to better capture a
 spects of the data. I will discuss \nclassical diagnostics for linear regr
 ession\, Bayesian model criticism procedures and some advanced methods.
LOCATION:Engineering Department\, CBL Room 438
END:VEVENT
END:VCALENDAR
