BEGIN:VCALENDAR
VERSION:2.0
PRODID:-//Talks.cam//talks.cam.ac.uk//
X-WR-CALNAME:Talks.cam
BEGIN:VEVENT
SUMMARY:Multidimensional fluorescence imaging in living cells - Dr Clemens
  Kaminski (Department of Chemical Engineering\, Cambridge)
DTSTART:20061117T113000Z
DTEND:20061117T120000Z
UID:TALK5277@talks.cam.ac.uk
CONTACT:Duncan Simpson
DESCRIPTION:Fluorescence microscopy techniques are ideally suited for the 
 study of living matter.  They are sensitive and non intrusive and thus can
  be applied in situ without disturbing the processes under investigation. 
  This talk will focus on new developments in the Laser Analytics Group of 
 techniques offering multidimensional and quantitative information from liv
 e cell systems.  We focus not only on the intensity of emitted fluorescenc
 e light but also on the spectrum and lifetime.  Variants of these techniqu
 es permit information to be obtained on spatial scales below the wavelengt
 h of the exciting light.  Examples will be shown from studies of cell topo
 logy changes upon parasitic infection\, protein-protein interactions\, and
  the delivery of macromolecular complexes to live cell systems.  \n
LOCATION:Kaetsu Centre\, New Hall
END:VEVENT
END:VCALENDAR
