BEGIN:VCALENDAR
VERSION:2.0
PRODID:-//Talks.cam//talks.cam.ac.uk//
X-WR-CALNAME:Talks.cam
BEGIN:VEVENT
SUMMARY:Cambridge Network Event: Dr Keith McNeil\, CEO Addenbrooke's - Dr 
 Keith McNeil\, CEO\, Addenbrooke's
DTSTART:20140630T170000Z
DTEND:20140630T193000Z
UID:TALK52944@talks.cam.ac.uk
CONTACT:Louise Rushworth
DESCRIPTION:We're delighted to welcome Dr Keith McNeil\, CEO of Addenbrook
 e's to come and talk to our members in June.\n\nAn internationally recogni
 sed expert in the fields of lung transplantation and pulmonary vascular di
 sease\, Keith was appointed as chief executive in November 2012. He joined
  CUH from one of the largest health services in Australia – Metro North 
 Health Service in Brisbane – where he had been CEO since 2008. As CUH ch
 ief executive\, Keith oversees how the Trust is managed\, ensuring patient
 s receive high quality safe care. His role also means that he is accountab
 le for the financial management of the Trust and for its strategic develop
 ment.\n\nKeith spent two years as a senior transplant fellow at Papworth H
 ospital and a further five years working jointly at Papworth and CUH as a 
 cardio-pulmonary transplant and respiratory physician and director of the 
 pulmonary vascular disease unit. During this time\, Keith was pivotal in e
 stablishing the UK’s centre for pulmonary endarterectomy at Papworth and
  was an adviser to the Department of Health on pulmonary hypertension.\n\n
 Keith began his chief executive career in 2007 in his native Australia at 
 the Royal Brisbane and Women’s Hospital\, a 980-bed teaching hospital\, 
 one of the largest teaching hospitals in the southern hemisphere. In 2008 
 he was appointed professor of medicine at the University of Queensland.\n\
 nKeith also served in the Australian Special Forces where he was trained i
 n survival techniques and as a weapons expert. \n\n \n\nTo book:\nIf you w
 ould like to attend this event please click on this link - http://www.camb
 ridgenetwork.co.uk/events/cambridge-network-event-dr-keith-mcneil-ceo-adde
 nbrookes/ \n\nTimings:\nThe talk will last for about 30-45 minutes\, follo
 wed by Q&A. There will be a light refreshments and an opportunity to netwo
 rk after the event\, which we estimate will end around 8.30pm.﻿﻿
LOCATION:Emmanuel College\, St Andrew's St\, Cambridge CB2 3AP
END:VEVENT
END:VCALENDAR
