BEGIN:VCALENDAR
VERSION:2.0
PRODID:-//Talks.cam//talks.cam.ac.uk//
X-WR-CALNAME:Talks.cam
BEGIN:VEVENT
SUMMARY:Optimised Digital Fountain Codes for Medium Blocklengths - Oliver 
 Madge
DTSTART:20060920T130000Z
DTEND:20060920T140000Z
UID:TALK5311@talks.cam.ac.uk
CONTACT:Ryan Prescott Adams
DESCRIPTION:Digital fountain codes are a class of forward error-correcting
  codes for erasure channels. Good decoders exist for long blocklengths\, b
 ut efficient ones for medium blocklengths are missing. I present a novel d
 ecoder based on sparse matrix manipulations.
LOCATION:Ryle Seminar Room\, Cavendish Laboratory
END:VEVENT
END:VCALENDAR
