BEGIN:VCALENDAR
VERSION:2.0
PRODID:-//Talks.cam//talks.cam.ac.uk//
X-WR-CALNAME:Talks.cam
BEGIN:VEVENT
SUMMARY:All in the Head? - Dr Andrew Powlson on behalf of Dr Mark Gurnell
DTSTART:20140709T123000Z
DTEND:20140709T130000Z
UID:TALK53140@talks.cam.ac.uk
CONTACT:Alexis Faulkner
DESCRIPTION:Abstract not available
LOCATION:William Harvey Lecture Theatre
END:VEVENT
END:VCALENDAR
