BEGIN:VCALENDAR
VERSION:2.0
PRODID:-//Talks.cam//talks.cam.ac.uk//
X-WR-CALNAME:Talks.cam
BEGIN:VEVENT
SUMMARY:A Retrospective Likelihood Approach for Efficient Integration of M
 ultiple Omics and Non-Omics Factors in Case – Control Association Studie
 s of Complex Diseases - Jeanine J. Houwing-Duistermaat\, Leiden University
  Medical Centre\, The Netherlands
DTSTART:20140626T130000Z
DTEND:20140626T134000Z
UID:TALK53219@talks.cam.ac.uk
CONTACT:Hui Xiao
DESCRIPTION:Abstract not available
LOCATION:Cambridge University Computer Lab\, William Gates Building\, CB3 
 0FD
END:VEVENT
END:VCALENDAR
