BEGIN:VCALENDAR
VERSION:2.0
PRODID:-//Talks.cam//talks.cam.ac.uk//
X-WR-CALNAME:Talks.cam
BEGIN:VEVENT
SUMMARY:Mendelian Randomisation for Causal Inference in Epidemiology - Van
 essa Didelez\, University of Bristol\, UK
DTSTART:20140627T134000Z
DTEND:20140627T142000Z
UID:TALK53228@talks.cam.ac.uk
CONTACT:Hui Xiao
DESCRIPTION:Abstract not available
LOCATION:Cambridge University Computer Lab\, William Gates Building\, CB3 
 0FD
END:VEVENT
END:VCALENDAR
