BEGIN:VCALENDAR
VERSION:2.0
PRODID:-//Talks.cam//talks.cam.ac.uk//
X-WR-CALNAME:Talks.cam
BEGIN:VEVENT
SUMMARY:Species interactions from a mathematical modelling and algorithmic
  perspective - Marie-France Sagot\, Universite' Claude Bernard\, France
DTSTART:20140628T080000Z
DTEND:20140628T084000Z
UID:TALK53232@talks.cam.ac.uk
CONTACT:Hui Xiao
DESCRIPTION:Abstract not available
LOCATION:Cambridge University Computer Lab\, William Gates Building\, CB3 
 0FD
END:VEVENT
END:VCALENDAR
