BEGIN:VCALENDAR
VERSION:2.0
PRODID:-//Talks.cam//talks.cam.ac.uk//
X-WR-CALNAME:Talks.cam
BEGIN:VEVENT
SUMMARY:Coastal Wave Modelling: General Engineering Usage and Areas for Im
 proved Research - Bunn\, N (HR Wallingford)
DTSTART:20140730T134000Z
DTEND:20140730T141000Z
UID:TALK53536@talks.cam.ac.uk
CONTACT:Mustapha Amrani
DESCRIPTION:2014/07/30
LOCATION:Seminar Room 1\, Newton Institute
END:VEVENT
END:VCALENDAR
