BEGIN:VCALENDAR
VERSION:2.0
PRODID:-//Talks.cam//talks.cam.ac.uk//
X-WR-CALNAME:Talks.cam
BEGIN:VEVENT
SUMMARY:Title to be confirmed - Speaker to be confirmed
DTSTART:20150506T120000Z
DTEND:20150506T130000Z
UID:TALK53620@talks.cam.ac.uk
CONTACT:Peter Sewell
DESCRIPTION:Abstract not available
LOCATION:FW26
END:VEVENT
END:VCALENDAR
