BEGIN:VCALENDAR
VERSION:2.0
PRODID:-//Talks.cam//talks.cam.ac.uk//
X-WR-CALNAME:Talks.cam
BEGIN:VEVENT
SUMMARY:Welcome and Introduction - Leeks\, J (Turing Gateway to Mathematic
 s)
DTSTART:20140807T123000Z
DTEND:20140807T123500Z
UID:TALK53655@talks.cam.ac.uk
CONTACT:Mustapha Amrani
DESCRIPTION:2014/08/07
LOCATION:Seminar Room 1\, Newton Institute
END:VEVENT
END:VCALENDAR
