BEGIN:VCALENDAR
VERSION:2.0
PRODID:-//Talks.cam//talks.cam.ac.uk//
X-WR-CALNAME:Talks.cam
BEGIN:VEVENT
SUMMARY:A Conversation with Brian Cox  - Professor Brian Cox 
DTSTART:20140902T180000Z
DTEND:20140902T203000Z
UID:TALK53716@talks.cam.ac.uk
CONTACT:38472
DESCRIPTION:Join Professor Brian Cox for a truly unique evening on Tuesday
  2nd September 2014 at the Royal Geographical Society. Professor Cox will 
 discuss a range of topics in a lively conversation with broadcaster Sue Ne
 lson. The event will raise money for the Society of Biology\, whose vision
  is of a world that understands the true value of biology and how it can c
 ontribute to improving life for all. \nBrian Cox is professor of physics a
 t The University of Manchester and an Honorary Fellow of the Society of Bi
 ology. He will discuss the wonders of life\, the universe\, science broadc
 asting and more.\nA limited number of tickets will be available for a VIP 
 Champagne Reception after the conversation where Brian will circulate and 
 chat more informally to guests. Those with a VIP ticket will also have the
  opportunity to submit a question for Brian and he will answer a selection
  of these during his on-stage appearance. Tickets to this one-off event wi
 ll sell out fast so don't miss out!\n\n\n
LOCATION:Royal Geographical Society
END:VEVENT
END:VCALENDAR
