BEGIN:VCALENDAR
VERSION:2.0
PRODID:-//Talks.cam//talks.cam.ac.uk//
X-WR-CALNAME:Talks.cam
BEGIN:VEVENT
SUMMARY:Diabetes in pregnancy: a hard case to swallow - Dr Zoe Stewart
DTSTART:20140917T123000Z
DTEND:20140917T130000Z
UID:TALK53744@talks.cam.ac.uk
CONTACT:Alexis Faulkner
DESCRIPTION:Diabetes & Endocrinology
LOCATION:William Harvey Lecture Theatre
END:VEVENT
END:VCALENDAR
