BEGIN:VCALENDAR
VERSION:2.0
PRODID:-//Talks.cam//talks.cam.ac.uk//
X-WR-CALNAME:Talks.cam
BEGIN:VEVENT
SUMMARY:CVD Forum - Defining Cardiovascular Health: Approach\, Research Ap
 plications\, and Strategic Goals - Prof Wayne Rosamond\, University of Nor
 th Carolina
DTSTART:20140827T090000Z
DTEND:20140827T100000Z
UID:TALK53882@talks.cam.ac.uk
CONTACT:38564
DESCRIPTION:Abstract not available
LOCATION:New Seminar Rooms\, Strangeways Research Laboratory
END:VEVENT
END:VCALENDAR
