BEGIN:VCALENDAR
VERSION:2.0
PRODID:-//Talks.cam//talks.cam.ac.uk//
X-WR-CALNAME:Talks.cam
BEGIN:VEVENT
SUMMARY:Title to be Confirmed - To be confirmed on behalf of Dr Tony Coll
DTSTART:20150603T120000Z
DTEND:20150603T130000Z
UID:TALK53908@talks.cam.ac.uk
CONTACT:Alexis Faulkner
DESCRIPTION:Endocrinology CPC
LOCATION:William Harvey Lecture Theatre
END:VEVENT
END:VCALENDAR
