BEGIN:VCALENDAR
VERSION:2.0
PRODID:-//Talks.cam//talks.cam.ac.uk//
X-WR-CALNAME:Talks.cam
BEGIN:VEVENT
SUMMARY:Systemic Risk: Models and Mechanisms - Cont\, R\, Glasserman\, P\,
  Vega-Redondo\, F (Panel Session)
DTSTART:20140829T131500Z
DTEND:20140829T150000Z
UID:TALK53941@talks.cam.ac.uk
CONTACT:Mustapha Amrani
DESCRIPTION:C Rogers (University of Cambridge)R Cont (Imperial College Lon
 don/CNRS)P Glasserman (Columbia University)F Vega-Redondo (Bocconi Univers
 ity)\n
LOCATION:Seminar Room 1\, Newton Institute
END:VEVENT
END:VCALENDAR
