BEGIN:VCALENDAR
VERSION:2.0
PRODID:-//Talks.cam//talks.cam.ac.uk//
X-WR-CALNAME:Talks.cam
BEGIN:VEVENT
SUMMARY:Is there Enough for All of Us?  Global Growth\, Climate Change and
  Food Security - Dame Barbara Stocking\, President at Murray Edwards Colle
 ge
DTSTART:20141111T180000Z
DTEND:20141111T190000Z
UID:TALK54009@talks.cam.ac.uk
CONTACT:37616
DESCRIPTION:This lecture by Dame Barbara Stocking\, for 12 years CE of Oxf
 am\, will explore the state of the natural resources of the planet\, looki
 ng at basic human needs to see how near we are to living within the bounda
 ries while meeting the needs.  It will look at food security and what need
 s to be done by whom\; and also asking how we can continue to have food se
 curity in a climate changed world.
LOCATION:David Li Kwok Po Lecture Theatre\, Faculty of Law
END:VEVENT
END:VCALENDAR
