BEGIN:VCALENDAR
VERSION:2.0
PRODID:-//Talks.cam//talks.cam.ac.uk//
X-WR-CALNAME:Talks.cam
BEGIN:VEVENT
SUMMARY:The Hybrid Air Vehicles Airlander project  - David Stewart\, Head 
 of Flight Sciences\, Hybrid Air Vehicles
DTSTART:20140911T180000Z
DTEND:20140911T200000Z
UID:TALK54070@talks.cam.ac.uk
CONTACT:Publicity Officer\, IMechE Beds & Cambs area
DESCRIPTION:David Stewart\, Head of Flight Sciences\, Hybrid Air Vehicles 
 will talk about the development of its airship technology and the Airlande
 r Project.\n\nThis lecture will explain exactly what an Airlander is and h
 ow it combines elements from traditional airships\, fixed wing aircraft\, 
 hovercraft and helicopters. David Stewart will talk about each of the majo
 r engineering sections\, aerodynamics\, propulsion\, materials\, etc. and 
 give an insight into some of the market opportunities that are seen for Ai
 rlanders. David will also talk about the development of the Airlander 10 a
 nd the progress on returning the vehicle to flight and finally a brief sum
 mary of a TSB funded project that is currently being worked on. \n\nTime: 
 Refreshments served from 19.00. Talk starts at 19.30. Ends by 21:00 follow
 ing questions and discussion.\n\nVenue: Lecture Room 0\, Cambridge Univers
 ity Engineering Department\, Trumpington Street\, Cambridge CB2 1PZ ("dire
 ctions":http://www.eng.cam.ac.uk/about-us/how-find-us/). There is limited 
 parking available on site.\n\nIMechE and RAeS members free. Nominal donati
 on for visitors of £5. Booking not required. All welcome.\n\nThis talk is
  open to the public and is suitable for students and engineers. You are en
 couraged to bring with you colleagues\, friends and family who are interes
 ted in engineering and aircraft.\n\nA poster to advertise this event can b
 e downloaded "here":http://nearyou.imeche.org/docs/default-source/Beds---C
 ambs-Area/raes_sept_2014_poster.pdf.\n\nThis event is organised jointly by
  the Institution of Mechanical Engineers Beds and Cambs area and the Royal
  Aeronautical Society Cambridge branch.
LOCATION:Lecture Theatre 0\, Cambridge University Engineering Department\,
  Trumpington Street\, Cambridge CB2 1PZ
END:VEVENT
END:VCALENDAR
