BEGIN:VCALENDAR
VERSION:2.0
PRODID:-//Talks.cam//talks.cam.ac.uk//
X-WR-CALNAME:Talks.cam
BEGIN:VEVENT
SUMMARY:Plenary Lecture 2: Cancer-like overgrowths and genomic regulatory 
 design in microbes - Frank\, S (University of California\, Irvine)
DTSTART:20140910T130500Z
DTEND:20140910T134000Z
UID:TALK54127@talks.cam.ac.uk
CONTACT:Mustapha Amrani
DESCRIPTION:Mutant lineages may cause cancer-like overgrowths in microbial
  populations. Theory predicts that microbial regulatory controls may be de
 signed to limit the origin and competitive potential of rogue lineages. Th
 e theory depends on the fundamental tradeoff between rate and yield in mic
 robial metabolism. The rate versus yield tradeoff and the role of cancer-l
 ike overgrowths are influenced by the genetic structure of populations and
  by demographic processes such as how long resource patches last.
LOCATION:Seminar Room 1\, Newton Institute
END:VEVENT
END:VCALENDAR
