BEGIN:VCALENDAR
VERSION:2.0
PRODID:-//Talks.cam//talks.cam.ac.uk//
X-WR-CALNAME:Talks.cam
BEGIN:VEVENT
SUMMARY:Don't know - pigsty
DTSTART:20060925T100000Z
DTEND:20060925T110000Z
UID:TALK5417@talks.cam.ac.uk
CONTACT:Caroline Williams
DESCRIPTION:Abstract not available
LOCATION:Raised Faculty Building
END:VEVENT
END:VCALENDAR
