BEGIN:VCALENDAR
VERSION:2.0
PRODID:-//Talks.cam//talks.cam.ac.uk//
X-WR-CALNAME:Talks.cam
BEGIN:VEVENT
SUMMARY:A COLlaborative diagnosis - Dr Sarju Mehta on behalf of Clare Cous
 ins
DTSTART:20141029T133000Z
DTEND:20141029T140000Z
UID:TALK54322@talks.cam.ac.uk
CONTACT:Alexis Faulkner
DESCRIPTION:Medical Genetics
LOCATION:William Harvey Lecture Theatre
END:VEVENT
END:VCALENDAR
