BEGIN:VCALENDAR
VERSION:2.0
PRODID:-//Talks.cam//talks.cam.ac.uk//
X-WR-CALNAME:Talks.cam
BEGIN:VEVENT
SUMMARY:Toward resolving the fine scale genetic structure of microbial pop
 ulations: a metagenomic Hi-C approach - Darling\, A (University of Technol
 ogies\, Sydney)
DTSTART:20140918T143000Z
DTEND:20140918T150000Z
UID:TALK54407@talks.cam.ac.uk
CONTACT:Mustapha Amrani
DESCRIPTION:2014/09/18
LOCATION:Seminar Room 2\, Newton Institute Gatehouse
END:VEVENT
END:VCALENDAR
