BEGIN:VCALENDAR
VERSION:2.0
PRODID:-//Talks.cam//talks.cam.ac.uk//
X-WR-CALNAME:Talks.cam
BEGIN:VEVENT
SUMMARY:Hidden GeV-scale interactions of quarks and dark matter  - Claudia
  Frugiuele (Fermilab)
DTSTART:20141128T160000Z
DTEND:20141128T170000Z
UID:TALK54472@talks.cam.ac.uk
CONTACT:Damien George
DESCRIPTION:I will discuss the discovery prospect of light dark matter wit
 h the  NOVA near detector at Fermilab.\nI will give first an overview on t
 he current bounds on the quarks-light dark matter interaction and I will t
 hen explain why neutrino experiments can improve these bounds. Finally I  
 will focus on the NOVA experiment discussing  possible models and  paramet
 er space  potentially constrained by this experiment.
LOCATION:MR19 (Potter Room\, Pavilion B)\, CMS
END:VEVENT
END:VCALENDAR
