BEGIN:VCALENDAR
VERSION:2.0
PRODID:-//Talks.cam//talks.cam.ac.uk//
X-WR-CALNAME:Talks.cam
BEGIN:VEVENT
SUMMARY:"Structural characterisation of protein complexes by  chemical cro
 ss-linking and mass spectrometry" - Dr Florian Stengel
DTSTART:20141014T120000Z
DTEND:20141014T130000Z
UID:TALK54479@talks.cam.ac.uk
CONTACT:38852
DESCRIPTION:Abstract not available
LOCATION:Department of Biochemistry\, Sanger Building Lecture Theatre
END:VEVENT
END:VCALENDAR
