BEGIN:VCALENDAR
VERSION:2.0
PRODID:-//Talks.cam//talks.cam.ac.uk//
X-WR-CALNAME:Talks.cam
BEGIN:VEVENT
SUMMARY:The effect of the APOE genotype on brain function  - Nicola Filipp
 ini (University of Oxford)
DTSTART:20141203T123000Z
DTEND:20141203T133000Z
UID:TALK54736@talks.cam.ac.uk
CONTACT:Mandy Carter
DESCRIPTION:Abstract not available
LOCATION:Lecture Theatre\, MRC Cognition and Brain Sciences Unit\, Chaucer
  Road
END:VEVENT
END:VCALENDAR
