BEGIN:VCALENDAR
VERSION:2.0
PRODID:-//Talks.cam//talks.cam.ac.uk//
X-WR-CALNAME:Talks.cam
BEGIN:VEVENT
SUMMARY:Regulation of NMDA receptor activity in substantia nigra dopamine 
 neurons - Sue Jones (PDN\, Cambridge) 
DTSTART:20141031T160000Z
DTEND:20141031T170000Z
UID:TALK54750@talks.cam.ac.uk
CONTACT:Robin Irvine
DESCRIPTION:Abstract not available
LOCATION:Pharmacology Lecture Theatre\, Department of Pharmacology\, Tenni
 s Court Road
END:VEVENT
END:VCALENDAR
