BEGIN:VCALENDAR
VERSION:2.0
PRODID:-//Talks.cam//talks.cam.ac.uk//
X-WR-CALNAME:Talks.cam
BEGIN:VEVENT
SUMMARY:Modularity and the Fermat Equation over Real Quadratic Fields - Sa
 mir Siksek (University of Warwick)
DTSTART:20141014T151500Z
DTEND:20141014T161500Z
UID:TALK54803@talks.cam.ac.uk
CONTACT:Jack Thorne
DESCRIPTION:We apply modularity and level lowering to prove an\nasymptotic
  version of Fermat's Last Theorem for 5/6th of real quadratic fields. This
  is joint work with Nuno Freitas.
LOCATION:MR13
END:VEVENT
END:VCALENDAR
