BEGIN:VCALENDAR
VERSION:2.0
PRODID:-//Talks.cam//talks.cam.ac.uk//
X-WR-CALNAME:Talks.cam
BEGIN:VEVENT
SUMMARY:Phase and Correlation in `Random' Seismic Fields: Imaging with bac
 kground noise and coda - Michel Campillo (Université Joseph Fourier\, Gre
 noble)
DTSTART:20061101T163000Z
DTEND:20061101T173000Z
UID:TALK5490@talks.cam.ac.uk
CONTACT:4047
DESCRIPTION:Abstract not available
LOCATION:Marine/Wolfson Building lecture hall
END:VEVENT
END:VCALENDAR
