BEGIN:VCALENDAR
VERSION:2.0
PRODID:-//Talks.cam//talks.cam.ac.uk//
X-WR-CALNAME:Talks.cam
BEGIN:VEVENT
SUMMARY:Cache collision timing attacks against AES - Joseph Bonneau\, Stan
 ford University
DTSTART:20060922T150000Z
DTEND:20060922T153000Z
UID:TALK5500@talks.cam.ac.uk
CONTACT:Markus Kuhn
DESCRIPTION:Abstract not available
LOCATION:Computer Laboratory\, William Gates Building\, Room FW11
END:VEVENT
END:VCALENDAR
