BEGIN:VCALENDAR
VERSION:2.0
PRODID:-//Talks.cam//talks.cam.ac.uk//
X-WR-CALNAME:Talks.cam
BEGIN:VEVENT
SUMMARY:Colision Course - How Science is abused by the Media - Professor B
 rian J Ford\, Writer\, Broadcaster and CSAR Member of Council
DTSTART:20061009T183000Z
DTEND:20061009T200000Z
UID:TALK5506@talks.cam.ac.uk
CONTACT:Richard Freeman
DESCRIPTION:Abstract not available
LOCATION:Wolfson Lecture Theatre\, Churchill College
END:VEVENT
END:VCALENDAR
