BEGIN:VCALENDAR
VERSION:2.0
PRODID:-//Talks.cam//talks.cam.ac.uk//
X-WR-CALNAME:Talks.cam
BEGIN:VEVENT
SUMMARY:Plectic cohomology of Shimura varieties - Tony Scholl (University 
 of Cambridge)
DTSTART:20141021T151500Z
DTEND:20141021T161500Z
UID:TALK55155@talks.cam.ac.uk
CONTACT:Jack Thorne
DESCRIPTION:Abstract not available
LOCATION:MR13
END:VEVENT
END:VCALENDAR
