BEGIN:VCALENDAR
VERSION:2.0
PRODID:-//Talks.cam//talks.cam.ac.uk//
X-WR-CALNAME:Talks.cam
BEGIN:VEVENT
SUMMARY:Reading is affected by text you see - Professor Arnold Wilkins (Un
 iversity of Essex)
DTSTART:20061012T151500Z
DTEND:20061012T161500Z
UID:TALK5521@talks.cam.ac.uk
CONTACT:4069
DESCRIPTION:Abstract not available
LOCATION:Lecture Theatre\, MRC-CBU
END:VEVENT
END:VCALENDAR
