BEGIN:VCALENDAR
VERSION:2.0
PRODID:-//Talks.cam//talks.cam.ac.uk//
X-WR-CALNAME:Talks.cam
BEGIN:VEVENT
SUMMARY:Conversations with Caroline:  archival spaces of the Victorian asy
 lum - Caroline Bressey\, University College London
DTSTART:20141127T130000Z
DTEND:20141127T140000Z
UID:TALK55581@talks.cam.ac.uk
CONTACT:Dr. P MR Howell
DESCRIPTION:Abstract not available
LOCATION:Room 101\, Hardy Building\, Department of Geography
END:VEVENT
END:VCALENDAR
