BEGIN:VCALENDAR
VERSION:2.0
PRODID:-//Talks.cam//talks.cam.ac.uk//
X-WR-CALNAME:Talks.cam
BEGIN:VEVENT
SUMMARY:Molecular random tilings - Professor Juan Garrahan (University of 
 Nottingham)
DTSTART:20141029T141500Z
DTEND:20141029T151500Z
UID:TALK55589@talks.cam.ac.uk
CONTACT:Aron Cohen
DESCRIPTION:Abstract not available
LOCATION:Department of Chemistry\, Cambridge\, Pfizer lecture theatre
END:VEVENT
END:VCALENDAR
