BEGIN:VCALENDAR
VERSION:2.0
PRODID:-//Talks.cam//talks.cam.ac.uk//
X-WR-CALNAME:Talks.cam
BEGIN:VEVENT
SUMMARY:'Rude\, moi! French and British in interaction' - Christophe Gagne
  (Churchill College\, Cambridge)
DTSTART:20061018T193000Z
DTEND:20061018T203000Z
UID:TALK5566@talks.cam.ac.uk
CONTACT:Wendy Bennett
DESCRIPTION:Abstract not available
LOCATION:Seminar Room\, Buckingham House\, New Hall
END:VEVENT
END:VCALENDAR
