BEGIN:VCALENDAR
VERSION:2.0
PRODID:-//Talks.cam//talks.cam.ac.uk//
X-WR-CALNAME:Talks.cam
BEGIN:VEVENT
SUMMARY:Quantum Monte Carlo study of the phase diagram of solid molecular 
 hydrogen at extreme pressures - Jonathan Lloyd-Williams (TCM)
DTSTART:20141112T110000Z
DTEND:20141112T114000Z
UID:TALK55666@talks.cam.ac.uk
CONTACT:Dr. Mike Towler
DESCRIPTION:Abstract not available
LOCATION:TCM Seminar Room\, Cavendish Laboratory
END:VEVENT
END:VCALENDAR
