BEGIN:VCALENDAR
VERSION:2.0
PRODID:-//Talks.cam//talks.cam.ac.uk//
X-WR-CALNAME:Talks.cam
BEGIN:VEVENT
SUMMARY:Theory and simulation of electronic and optical properties of thin
  film BaxSr1-xTiO3 - Jawad Al-Saei (Imperial College London)
DTSTART:20141119T110000Z
DTEND:20141119T114000Z
UID:TALK55668@talks.cam.ac.uk
CONTACT:Dr. Mike Towler
DESCRIPTION:Abstract not available
LOCATION:TCM Seminar Room\, Cavendish Laboratory
END:VEVENT
END:VCALENDAR
