BEGIN:VCALENDAR
VERSION:2.0
PRODID:-//Talks.cam//talks.cam.ac.uk//
X-WR-CALNAME:Talks.cam
BEGIN:VEVENT
SUMMARY:Variance Reduction Techniques and Stochastic Optimisation for Mont
 e Carlo - Matt Hoffman\; Yutian Chen
DTSTART:20150212T150000Z
DTEND:20150212T163000Z
UID:TALK55680@talks.cam.ac.uk
CONTACT:39777
DESCRIPTION:Abstract not available
LOCATION:Engineering Department\, CBL Room 438
END:VEVENT
END:VCALENDAR
