BEGIN:VCALENDAR
VERSION:2.0
PRODID:-//Talks.cam//talks.cam.ac.uk//
X-WR-CALNAME:Talks.cam
BEGIN:VEVENT
SUMMARY:Title to be confirmed - Gérard Eberl Institut Pasteur
DTSTART:20150529T120000Z
DTEND:20150529T130000Z
UID:TALK55824@talks.cam.ac.uk
CONTACT:Dr Tennie Videler
DESCRIPTION:Abstract not available
LOCATION:MPLT\, MRC-LMB\, Francis Crick Avenue\, Cambridge Biomedical Camp
 us\, CB2 0QH
END:VEVENT
END:VCALENDAR
