BEGIN:VCALENDAR
VERSION:2.0
PRODID:-//Talks.cam//talks.cam.ac.uk//
X-WR-CALNAME:Talks.cam
BEGIN:VEVENT
SUMMARY:The amazing hepatocyte: master of disguise and adaptation - Dr Mar
 kus Grompe
DTSTART:20141110T161500Z
DTEND:20141110T180000Z
UID:TALK55934@talks.cam.ac.uk
CONTACT:Scientific Meetings Co-ordinator
DESCRIPTION:TBC
LOCATION:Max Perutz Lecture Theatre\, Medical Research Council (MRC) (MRC 
 Laboratory of Molecular Biol
END:VEVENT
END:VCALENDAR
