BEGIN:VCALENDAR
VERSION:2.0
PRODID:-//Talks.cam//talks.cam.ac.uk//
X-WR-CALNAME:Talks.cam
BEGIN:VEVENT
SUMMARY:"The Irish Aristocracy in the Seventeenth Century" - Jane Ohlmeyer
 \, Erasmus Smith's Professor of Modern History\, Trinity College Dublin
DTSTART:20141106T180000Z
DTEND:20141106T190000Z
UID:TALK55944@talks.cam.ac.uk
CONTACT:Thomas Daniels
DESCRIPTION:Trinity Hill History Society is proud to present its second ev
 ent of the year\, a talk by Professor Jane Ohlemyer. A visiting professor 
 at Cambridge this year\, Professor Ohlmeyer has made significant contribut
 ions to the field of Early Modern Irish and British political history in h
 er position as Erasmus Smith's Professor of Modern History at Trinity Coll
 ege Dublin. In this talk\, she shall be discussing the nature of the Irish
  Aristocracy in the seventeenth century. Though potentially enlightening f
 or History Undergraduates taking Part I\, Paper 4\, the event is open to h
 istorians and non-historians alike and is sure to be of interest to those 
 unfamiliar with the period in question.\n\nRefreshments shall be provided 
 prior to the event.
LOCATION:Bridgetower Room\, Trinity Hall
END:VEVENT
END:VCALENDAR
