BEGIN:VCALENDAR
VERSION:2.0
PRODID:-//Talks.cam//talks.cam.ac.uk//
X-WR-CALNAME:Talks.cam
BEGIN:VEVENT
SUMMARY:Messing with Insects' Minds: The Sneaky World of Plant Viruses - D
 r John Carr
DTSTART:20141112T210000Z
DTEND:20141112T220000Z
UID:TALK55949@talks.cam.ac.uk
CONTACT:Patrick Szmucer
DESCRIPTION:Abstract not available
LOCATION:Nihon Room\, Pembroke College
END:VEVENT
END:VCALENDAR
