BEGIN:VCALENDAR
VERSION:2.0
PRODID:-//Talks.cam//talks.cam.ac.uk//
X-WR-CALNAME:Talks.cam
BEGIN:VEVENT
SUMMARY:The wavefunction of the de Sitter universe - Guilherme Pimentel
DTSTART:20141107T130000Z
DTEND:20141107T140000Z
UID:TALK56062@talks.cam.ac.uk
CONTACT:Benson Way
DESCRIPTION:I will review the wavefunctional approach to cosmological pert
 urbations\, with an emphasis in perturbations of a de Sitter background. A
 s applications that are of interest in inflationary cosmology\, this appro
 ach allows one to determine\, up to a few constants\, all three point func
 tions of gravitational waves in de Sitter space. It also gives an alternat
 ive point of view on the inflationary consistency conditions\, which relat
 e the local non-gaussianity to the power spectrum. It is also the natural 
 framework to understand the analogies between AdS/CFT and dS/CFT.
LOCATION:Pavilion B Potter Room (B1.19)
END:VEVENT
END:VCALENDAR
