BEGIN:VCALENDAR
VERSION:2.0
PRODID:-//Talks.cam//talks.cam.ac.uk//
X-WR-CALNAME:Talks.cam
BEGIN:VEVENT
SUMMARY:Christina Koning\, novelist - Christina Koning
DTSTART:20150116T180000Z
DTEND:20150116T000000Z
UID:TALK56131@talks.cam.ac.uk
CONTACT:Dr T Tate
DESCRIPTION:Christina Koning reads from and talks about her novels\, inclu
 ding Variable Stars\, her book about Herschel and his sister.
LOCATION:Meeting Room\, Clare Hall (main building)\, Herschel Road\, CB3 9
 AL
END:VEVENT
END:VCALENDAR
