BEGIN:VCALENDAR
VERSION:2.0
PRODID:-//Talks.cam//talks.cam.ac.uk//
X-WR-CALNAME:Talks.cam
BEGIN:VEVENT
SUMMARY:Modelling Macro Ecological Patterns: Neutral Theory and Beyond - C
 ornell\, S (Institute of Integrative Biology\, University of Liverpool)
DTSTART:20141114T110000Z
DTEND:20141114T120000Z
UID:TALK56231@talks.cam.ac.uk
CONTACT:Mustapha Amrani
DESCRIPTION:2014/11/14
LOCATION:Seminar Room 2\, Newton Institute Gatehouse
END:VEVENT
END:VCALENDAR
