BEGIN:VCALENDAR
VERSION:2.0
PRODID:-//Talks.cam//talks.cam.ac.uk//
X-WR-CALNAME:Talks.cam
BEGIN:VEVENT
SUMMARY:Developmental differences  in intra-individual variability in chil
 dren with ADHD and ASD - Janna van-Belle (Cognition and Brain Sciences Uni
 t)
DTSTART:20150218T123000Z
DTEND:20150218T133000Z
UID:TALK56343@talks.cam.ac.uk
CONTACT:Mandy Carter
DESCRIPTION:Abstract not available
LOCATION:Lecture Theatre\, MRC Cognition and Brain Sciences Unit\, Chaucer
  Road
END:VEVENT
END:VCALENDAR
