BEGIN:VCALENDAR
VERSION:2.0
PRODID:-//Talks.cam//talks.cam.ac.uk//
X-WR-CALNAME:Talks.cam
BEGIN:VEVENT
SUMMARY:Light\, gravity and fencing off the swampland - Tim Hollowood
DTSTART:20150204T141500Z
DTEND:20150204T151500Z
UID:TALK56420@talks.cam.ac.uk
CONTACT:Mahdi Godazgar
DESCRIPTION:Abstract not available
LOCATION:MR2\, Centre for Mathematical Sciences
END:VEVENT
END:VCALENDAR
